BEGIN:VCALENDAR
VERSION:2.0
PRODID:-//wp-events-plugin.com//7.2.3.1//EN
BEGIN:VEVENT
UID:257@theinnovationexchange.ie
DTSTART;TZID=Europe/Dublin:20260429T110000
DTEND;TZID=Europe/Dublin:20260429T120000
DTSTAMP:20260414T115134Z
URL:https://theinnovationexchange.ie/events/accelerating-innovation-webina
 r/
SUMMARY:Accelerating Innovation Webinar
DESCRIPTION:The Innovation Exchange is inviting you to a scheduled Zoom mee
 ting.\n\nTopic: Accelerating Innovation Webinar\nTime: Apr 29\, 2026 11:00
  AM Dublin\nJoin Zoom Meeting\nhttps://us06web.zoom.us/j/83782216752\n\nMe
 eting ID: 837 8221 6752
ATTACH;FMTTYPE=image/jpeg:https://theinnovationexchange.ie/wp-content/uplo
 ads/2026/03/Accelerate-Innovation-Webinar.jpg
CATEGORIES:Skillnet Innovation Exchange Events
END:VEVENT
BEGIN:VTIMEZONE
TZID:Europe/Dublin
X-LIC-LOCATION:Europe/Dublin
BEGIN:DAYLIGHT
DTSTART:20260329T020000
TZOFFSETFROM:+0000
TZOFFSETTO:+0100
TZNAME:IST
END:DAYLIGHT
END:VTIMEZONE
END:VCALENDAR