BEGIN:VCALENDAR
VERSION:2.0
PRODID:-//wp-events-plugin.com//7.2.3.1//EN
BEGIN:VEVENT
UID:262@theinnovationexchange.ie
DTSTART;TZID=Europe/Dublin:20260521T100000
DTEND;TZID=Europe/Dublin:20260521T130000
DTSTAMP:20260424T130657Z
URL:https://theinnovationexchange.ie/events/business-beyond-borders-uk/
SUMMARY:Business Beyond Borders: UK
DESCRIPTION:\n\n\nEntering or growing in the UK? Join us for expert insight
 \, practical guidance and useful business connections.\n\n\n\n\n\nThe UK i
 s a major growth opportunity for Irish businesses\, with over €4 billion
  in Irish goods exported there in early 2026 alone.\nFollowing the success
  of our sold-out Business Beyond Borders: USA event in March\, The Mill En
 terprise Hub is delighted to bring you Business Beyond Borders: UK.\n\nBus
 iness Beyond Borders: UK is a free event\, designed to give SMEs exploring
  the UK market practical guidance\, high-impact insights and clearer pathw
 ays for growth.\n\nThe UK remains Ireland’s largest trading partner and 
 a major opportunity for ambitious Irish businesses. While it is a familiar
  and accessible market\, successful expansion requires more than proximity
 . It requires the right strategy\, the right insight and the right network
 .\n\nWhether you are considering entering the UK for the first time or alr
 eady doing business there and looking to strengthen your position\, this e
 vent will give you valuable guidance\, market insight and useful connectio
 ns.\n\nThis event will feature an exceptional line-up of speakers. We are 
 honoured to welcome the British Ambassador to Ireland\, Cara Owen\, alongs
 ide representatives from England\, Wales and Northern Ireland\, as well as
  senior trade and investment leaders\, regional experts\, and business lea
 ders with first-hand experience of growing in the UK market.\nYou will gai
 n insight into:\n\n 	Key considerations when entering or growing in the UK
 \n 	Opportunities in the UK market for Irish businesses\n 	Hear first-hand
  lessons from an entrepreneur who has succeeded in the UK market\n 	Availa
 ble Supports to help expand including SEIS &amp\; EIS\n 	Explore the fundi
 ng and support options available to help you grow\, including SEIS &amp\;E
 IS.\n\nWho should attend?\nFounders\, business owners\, senior leaders and
  decision-makers in SMEs interested in entering\, growing or strengthening
  their position in the UK market.\n\nIf the UK is part of your growth plan
 s\, this is a valuable opportunity to gain practical insight and connect w
 ith the right people.\nThis event will be held in Coca-Cola HBC Drogheda\,
  details below.\nPlease note that photography and video may be captured du
 ring the event for promotional purposes.\n\nRegister here.\n\n\n\n\n\n&nbs
 p\;\n\n
ATTACH;FMTTYPE=image/jpeg:https://theinnovationexchange.ie/wp-content/uplo
 ads/2026/04/Screenshot-2026-04-24-132037.jpg
CATEGORIES:Skillnet Innovation Exchange Events
LOCATION:Coca-Cola Ireland\, Southgate Shopping Centre\, Drogheda\, A92YK7W
 \, 
X-APPLE-STRUCTURED-LOCATION;VALUE=URI;X-ADDRESS=Southgate Shopping Centre\,
  Drogheda\, A92YK7W\, ;X-APPLE-RADIUS=100;X-TITLE=Coca-Cola Ireland:geo:0,
 0
END:VEVENT
BEGIN:VTIMEZONE
TZID:Europe/Dublin
X-LIC-LOCATION:Europe/Dublin
BEGIN:DAYLIGHT
DTSTART:20260329T020000
TZOFFSETFROM:+0000
TZOFFSETTO:+0100
TZNAME:IST
END:DAYLIGHT
END:VTIMEZONE
END:VCALENDAR