BEGIN:VCALENDAR
VERSION:2.0
PRODID:-//wp-events-plugin.com//7.2.3.1//EN
BEGIN:VEVENT
UID:261@theinnovationexchange.ie
DTSTART;TZID=Europe/Dublin:20260521T090000
DTEND;TZID=Europe/Dublin:20260521T160000
DTSTAMP:20260424T121526Z
URL:https://theinnovationexchange.ie/events/tech-industry-alliance-techfes
 t-2026/
SUMMARY:Tech Industry Alliance TechFest 2026
DESCRIPTION:Al\, Technology &amp\; The Future: Innovation\, Intelligence\, 
 and Human Impact\n\n&nbsp\;\n\nJoin us for TechFest 2026\, the South West 
 of Ireland's leading technology conference\, taking place on Thursday\, 21
  May at the Rochestown Park Hotel\, Cork.\n\n&nbsp\;\n\nTechFest 2026 will
  convene technology leaders\, policymakers\, innovators and industry exper
 ts for a high impact\, in-person experience focused on one of the defining
  issues of our time: how Al and emerging technologies are reshaping busine
 ss\, society and public trust.\n\n&nbsp\;\n\nThis dynamic one day conferen
 ce will feature high-profile keynote speakers\, expert panel discussions a
 nd real world industry case studies. The programme is designed to provide 
 both strategic insight and practical application\, addressing not only the
  transformative potential of artificial intelligence\, but also the govern
 ance\, regulatory and ethical frameworks required to scale it responsibly.
 \n\n&nbsp\;\n\nFrom Al-related societal risks\, cybersecurity and criminal
  misuse\, to regulation\, innovation enablement and enterprise adoption\, 
 TechFest 2026 offers a balanced\, forward looking agenda. Attendees will h
 ear from leading voices across technology\, academia\, law enforcement\, c
 ybersecurity and government\, alongside organisations already deploying Al
  solutions in live environments.\n\nRead more &amp\; Register here.
ATTACH;FMTTYPE=image/jpeg:https://theinnovationexchange.ie/wp-content/uplo
 ads/2026/04/TechFest-26-Event-Details-w-Sponsors-1920-x-1080-v2.jpg
CATEGORIES:Skillnet Innovation Exchange Events
END:VEVENT
BEGIN:VTIMEZONE
TZID:Europe/Dublin
X-LIC-LOCATION:Europe/Dublin
BEGIN:DAYLIGHT
DTSTART:20260329T020000
TZOFFSETFROM:+0000
TZOFFSETTO:+0100
TZNAME:IST
END:DAYLIGHT
END:VTIMEZONE
END:VCALENDAR