BEGIN:VCALENDAR
VERSION:2.0
PRODID:-//wp-events-plugin.com//7.2.3.1//EN
BEGIN:VEVENT
UID:228@theinnovationexchange.ie
DTSTART;TZID=Europe/Dublin:20251002T100000
DTEND;TZID=Europe/Dublin:20251002T110000
DTSTAMP:20251216T140731Z
URL:https://theinnovationexchange.ie/events/the-growth-edge-unlocking-stab
 ility-with-lean-thinking/
SUMMARY:The Growth Edge: Unlocking Stability with Lean Thinking
DESCRIPTION:The Innovation Exchange is inviting you to a scheduled Zoom mee
 ting.\nTopic: The Growth Edge: Unlocking Stability with Lean Thinking\nTim
 e: Oct 2\, 2025 10:00 AM Dublin\nJoin Zoom Meeting\nhttps://us06web.zoom.u
 s/j/85470161781\nMeeting ID: 854 7016 1781
ATTACH;FMTTYPE=image/jpeg:https://theinnovationexchange.ie/wp-content/uplo
 ads/2025/08/The-Growth-Edge-Unlocking-Stability-with-Lean-Thinking.jpg
CATEGORIES:Previous Events,Skillnet Innovation Exchange Events
END:VEVENT
BEGIN:VTIMEZONE
TZID:Europe/Dublin
X-LIC-LOCATION:Europe/Dublin
BEGIN:DAYLIGHT
DTSTART:20250330T020000
TZOFFSETFROM:+0000
TZOFFSETTO:+0100
TZNAME:IST
END:DAYLIGHT
END:VTIMEZONE
END:VCALENDAR